BEGIN:VCALENDAR
VERSION:2.0
PRODID:-//Phantom Creek Estates - ECPv6.15.11//NONSGML v1.0//EN
CALSCALE:GREGORIAN
METHOD:PUBLISH
X-WR-CALNAME:Phantom Creek Estates
X-ORIGINAL-URL:https://phantomcreekestates.com
X-WR-CALDESC:Events for Phantom Creek Estates
REFRESH-INTERVAL;VALUE=DURATION:PT1H
X-Robots-Tag:noindex
X-PUBLISHED-TTL:PT1H
BEGIN:VTIMEZONE
TZID:America/Vancouver
BEGIN:DAYLIGHT
TZOFFSETFROM:-0800
TZOFFSETTO:-0700
TZNAME:PDT
DTSTART:20250309T100000
END:DAYLIGHT
BEGIN:STANDARD
TZOFFSETFROM:-0700
TZOFFSETTO:-0800
TZNAME:PST
DTSTART:20251102T090000
END:STANDARD
BEGIN:DAYLIGHT
TZOFFSETFROM:-0800
TZOFFSETTO:-0700
TZNAME:PDT
DTSTART:20260308T100000
END:DAYLIGHT
BEGIN:STANDARD
TZOFFSETFROM:-0700
TZOFFSETTO:-0800
TZNAME:PST
DTSTART:20261101T090000
END:STANDARD
BEGIN:DAYLIGHT
TZOFFSETFROM:-0800
TZOFFSETTO:-0700
TZNAME:PDT
DTSTART:20270314T100000
END:DAYLIGHT
BEGIN:STANDARD
TZOFFSETFROM:-0700
TZOFFSETTO:-0800
TZNAME:PST
DTSTART:20271107T090000
END:STANDARD
END:VTIMEZONE
BEGIN:VEVENT
DTSTART;TZID=America/Vancouver:20260321T110000
DTEND;TZID=America/Vancouver:20260321T160000
DTSTAMP:20260420T130414
CREATED:20260311T192113Z
LAST-MODIFIED:20260311T192246Z
UID:10405-1774090800-1774108800@phantomcreekestates.com
SUMMARY:Spring Fling
DESCRIPTION:Spring is arriving in full bloom at Phantom Creek Estates. \nJoin us March 20\, 21 & 22 for Spring Fling — a vibrant guided tasting celebrating the energy and elegance of the season. \nExplore five wines\, from the bright sophistication of Chardonnay and floral Viognier to our expressive Rosé\, Estate Cabernet Franc\, and Kobau Merlot. \nEach wine is thoughtfully paired with spring-inspired bites\, all set against our breathtaking South Okanagan landscape as the vineyard awakens for a new vintage. \nFresh. Playful. In full bloom. \n  \nAvailable March 20-22 from 11am–4pm daily\nReservations required \n💲 $40 (+ tax) per person \n🔞 19+ event \nReserve your special tasting today! \nOnline: Book Spring Fling Tasting \nEmail: concierge@phantomcreekestates.com \nCall: 250-498-8367 \nBook Now
URL:https://phantomcreekestates.com/event/spring-fling-mar-21/
LOCATION:Phantom Creek\, 4315 Black Sage Road\, Oliver\, BC\, V0H 1T0\, Canada
CATEGORIES:Winery Events
ATTACH;FMTTYPE=image/webp:https://phantomcreekestates.com/wp-content/uploads/2026/03/Spring-Fling.webp
ORGANIZER;CN="Phantom Creek":MAILTO:concierge@phantomcreekestates.com
END:VEVENT
END:VCALENDAR